BEGIN:VCALENDAR
VERSION:2.0
PRODID:Events Booking
BEGIN:VEVENT
UID:69ed776af0548
SUMMARY:NHK_0126
DESCRIPTION:Fr.  15.05.26  19:00 - 22:00
 Sa. 16.05.26  09.00 - 17:00 
LOCATION:Hauptstrasse 158\, CH-8762 Schwanden
DTSTART:20260515T170000Z
DTEND:20260516T150000Z
DTSTAMP:20260426T042442Z
ORGANIZER;CN=Safety Drive:MAILTO:info@safety.drive.ch
GEO:46.990126;9.061733
X-APPLE-STRUCTURED-LOCATION;VALUE=URI;X-ADDRESS=Hauptstrasse 158\, CH-8762 
 Schwanden;X-APPLE-RADIUS=72;X-TITLE=Safety Drive:46.990126;9.061733
END:VEVENT
END:VCALENDAR