BEGIN:VCALENDAR
VERSION:2.0
PRODID:Events Booking
BEGIN:VEVENT
UID:69ed77ad4d3ac
SUMMARY:VKU_0226 
DESCRIPTION:02./04. /09./11.06.2026         jeweils 19:00 - 21:00
LOCATION:Hauptstrasse 158\, CH-8762 Schwanden
DTSTART:20260602T170000Z
DTEND:20260611T190000Z
DTSTAMP:20260426T042549Z
ORGANIZER;CN=Safety Drive:MAILTO:info@safety.drive.ch
GEO:46.990126;9.061733
X-APPLE-STRUCTURED-LOCATION;VALUE=URI;X-ADDRESS=Hauptstrasse 158\, CH-8762 
 Schwanden;X-APPLE-RADIUS=72;X-TITLE=Safety Drive:46.990126;9.061733
END:VEVENT
END:VCALENDAR